BEGIN:VCALENDAR
VERSION:2.0
PRODID:-//ChamberMaster//Event Calendar 2.0//EN
METHOD:PUBLISH
X-PUBLISHED-TTL:P3D
REFRESH-INTERVAL:P3D
CALSCALE:GREGORIAN
BEGIN:VEVENT
DTSTART:20211015T150000Z
DTEND:20211015T170000Z
X-MICROSOFT-CDO-ALLDAYEVENT:FALSE
SUMMARY:15th Annual CACC Business Luncheon
DESCRIPTION:15th Annual Business Luncheon with host Charlie Langton and panelists from the metro Detroit area news media.
X-ALT-DESC;FMTTYPE=text/html:15th Annual Business Luncheon with host Charlie Langton and panelists from the metro Detroit area news media.
LOCATION:MotorCity Sound Board 2901 Grand River Avenue\, Detroit 48323
UID:e.109.230
SEQUENCE:3
DTSTAMP:20260424T002925Z
URL:https://members.chaldeanchamber.com/events/details/15th-annual-cacc-business-luncheon-230
END:VEVENT

END:VCALENDAR
