BEGIN:VCALENDAR
VERSION:2.0
PRODID:-//ChamberMaster//Event Calendar 2.0//EN
METHOD:PUBLISH
X-PUBLISHED-TTL:P3D
REFRESH-INTERVAL:P3D
CALSCALE:GREGORIAN
BEGIN:VEVENT
DTSTART:20221109T220000Z
DTEND:20221110T000000Z
X-MICROSOFT-CDO-ALLDAYEVENT:FALSE
SUMMARY:2022 Annual Meeting & Board Election
DESCRIPTION:Annual Meeting and Board Election
X-ALT-DESC;FMTTYPE=text/html:Annual Meeting and Board Election
LOCATION:Shenandoah Country Club 5600 Walnut Lake Road Bloomfield Twp
UID:e.109.243
SEQUENCE:3
DTSTAMP:20260423T062106Z
URL:https://members.chaldeanchamber.com/events/details/2022-annual-meeting-board-election-243
END:VEVENT

END:VCALENDAR
