BEGIN:VCALENDAR
VERSION:2.0
PRODID:-//ChamberMaster//Event Calendar 2.0//EN
METHOD:PUBLISH
X-PUBLISHED-TTL:P3D
REFRESH-INTERVAL:P3D
CALSCALE:GREGORIAN
BEGIN:VEVENT
DTSTART:20220923T150000Z
DTEND:20220923T170000Z
X-MICROSOFT-CDO-ALLDAYEVENT:FALSE
SUMMARY:2022 Corporate Member Appreciation Luncheon
DESCRIPTION:Luncheon to show appreciation for corporate members
X-ALT-DESC;FMTTYPE=text/html:Luncheon to show appreciation for corporate members
LOCATION:Amnesia Room MotorCity Casino Hotel 2901 Grand River Ave Detroit\, MI 48201
UID:e.109.250
SEQUENCE:3
DTSTAMP:20260423T104339Z
URL:https://members.chaldeanchamber.com/events/details/2022-corporate-member-appreciation-luncheon-250
END:VEVENT

END:VCALENDAR
