BEGIN:VCALENDAR
VERSION:2.0
PRODID:-//ChamberMaster//Event Calendar 2.0//EN
METHOD:PUBLISH
X-PUBLISHED-TTL:P3D
REFRESH-INTERVAL:P3D
CALSCALE:GREGORIAN
BEGIN:VEVENT
DTSTART:20220726T200000Z
DTEND:20220726T230000Z
X-MICROSOFT-CDO-ALLDAYEVENT:FALSE
SUMMARY:2022 Diversity Expo 7.26.22
DESCRIPTION:Diversity Expo\n\nNetworking event with multiple area and ethnic chambers
X-ALT-DESC;FMTTYPE=text/html:<p>Diversity Expo<br />\nNetworking event with multiple area and ethnic chambers</p>\n
LOCATION:Royal Oak Farmers Market 316 E Eleven Mile Rd\, Royal Oak\, MI 48067
UID:e.109.242
SEQUENCE:3
DTSTAMP:20260423T121124Z
URL:https://members.chaldeanchamber.com/events/details/2022-diversity-expo-7-26-22-242
END:VEVENT

END:VCALENDAR
