BEGIN:VCALENDAR
VERSION:2.0
PRODID:-//ChamberMaster//Event Calendar 2.0//EN
METHOD:PUBLISH
X-PUBLISHED-TTL:P3D
REFRESH-INTERVAL:P3D
CALSCALE:GREGORIAN
BEGIN:VEVENT
DTSTART:20231108T220000Z
DTEND:20231109T000000Z
X-MICROSOFT-CDO-ALLDAYEVENT:FALSE
SUMMARY:2023 Annual Meeting & Board Election
DESCRIPTION:Annual Meeting & Board Election
X-ALT-DESC;FMTTYPE=text/html:Annual Meeting &amp\; Board Election
LOCATION:5600 Walnut Lake Road West Bloomfield\, MI 48323
UID:e.109.262
SEQUENCE:3
DTSTAMP:20260422T143037Z
URL:https://members.chaldeanchamber.com/events/details/2023-annual-meeting-board-election-262
END:VEVENT

END:VCALENDAR
