BEGIN:VCALENDAR
VERSION:2.0
PRODID:-//ChamberMaster//Event Calendar 2.0//EN
METHOD:PUBLISH
X-PUBLISHED-TTL:P3D
REFRESH-INTERVAL:P3D
CALSCALE:GREGORIAN
BEGIN:VEVENT
DTSTART:20231205T223000Z
DTEND:20231206T010000Z
X-MICROSOFT-CDO-ALLDAYEVENT:FALSE
SUMMARY:2023 Christmas Party
DESCRIPTION:Member Christmas Party
X-ALT-DESC;FMTTYPE=text/html:Member Christmas Party
LOCATION:220 220 Merrill St Birmingham MI 48009
UID:e.109.263
SEQUENCE:3
DTSTAMP:20260422T130724Z
URL:https://members.chaldeanchamber.com/events/details/2023-christmas-party-263
END:VEVENT

END:VCALENDAR
