BEGIN:VCALENDAR
VERSION:2.0
PRODID:-//ChamberMaster//Event Calendar 2.0//EN
METHOD:PUBLISH
X-PUBLISHED-TTL:P3D
REFRESH-INTERVAL:P3D
CALSCALE:GREGORIAN
BEGIN:VEVENT
DTSTART:20230310T043000Z
DTEND:20230309T180000Z
X-MICROSOFT-CDO-ALLDAYEVENT:FALSE
SUMMARY:2023 CWC Notable Speaker 3-9-2023
DESCRIPTION:CWC Notable Speaker Series
X-ALT-DESC;FMTTYPE=text/html:CWC Notable Speaker Series
LOCATION:Beverly Hills Grill 31471 Southfield Rd Beverly Hills\, MI 48025
UID:e.109.255
SEQUENCE:3
DTSTAMP:20260423T011241Z
URL:https://members.chaldeanchamber.com/events/details/2023-cwc-notable-speaker-3-9-2023-255
END:VEVENT

END:VCALENDAR
