BEGIN:VCALENDAR
VERSION:2.0
PRODID:-//ChamberMaster//Event Calendar 2.0//EN
METHOD:PUBLISH
X-PUBLISHED-TTL:P3D
REFRESH-INTERVAL:P3D
CALSCALE:GREGORIAN
BEGIN:VEVENT
DTSTART:20230622T210000Z
DTEND:20230622T230000Z
X-MICROSOFT-CDO-ALLDAYEVENT:FALSE
SUMMARY:2023 CYPN Summer Soiree
DESCRIPTION:CYPN Summer Soiree
X-ALT-DESC;FMTTYPE=text/html:CYPN Summer Soiree
LOCATION:St. John's Resort 44045 Five Mile Road Plymouth\, Michigan 48170
UID:e.109.264
SEQUENCE:3
DTSTAMP:20260422T210114Z
URL:https://members.chaldeanchamber.com/events/details/2023-cypn-summer-soiree-264
END:VEVENT

END:VCALENDAR
