BEGIN:VCALENDAR
VERSION:2.0
PRODID:-//ChamberMaster//Event Calendar 2.0//EN
METHOD:PUBLISH
X-PUBLISHED-TTL:P3D
REFRESH-INTERVAL:P3D
CALSCALE:GREGORIAN
BEGIN:VEVENT
DTSTART:20230517T210000Z
DTEND:20230517T223000Z
X-MICROSOFT-CDO-ALLDAYEVENT:FALSE
SUMMARY:2023 Fun At Five 5.17.23
DESCRIPTION:Fun @ 5
X-ALT-DESC;FMTTYPE=text/html:Fun @ 5
LOCATION:Lawrence Technological University Southfield
UID:e.109.257
SEQUENCE:3
DTSTAMP:20260422T222106Z
URL:https://members.chaldeanchamber.com/events/details/2023-fun-at-five-5-17-23-257
END:VEVENT

END:VCALENDAR
