BEGIN:VCALENDAR
VERSION:2.0
PRODID:-//ChamberMaster//Event Calendar 2.0//EN
METHOD:PUBLISH
X-PUBLISHED-TTL:P3D
REFRESH-INTERVAL:P3D
CALSCALE:GREGORIAN
BEGIN:VEVENT
DTSTART:20230810T203000Z
DTEND:20230810T223000Z
X-MICROSOFT-CDO-ALLDAYEVENT:FALSE
SUMMARY:2023 Fun at Five 8.10.23
DESCRIPTION:Fun @ 5
X-ALT-DESC;FMTTYPE=text/html:Fun @ 5
LOCATION:Canopy Insurance Group 335 E Maple Rd #400 Birmingham\, MI 48009
UID:e.109.258
SEQUENCE:3
DTSTAMP:20260422T181213Z
URL:https://members.chaldeanchamber.com/events/details/2023-fun-at-five-8-10-23-258
END:VEVENT

END:VCALENDAR
