BEGIN:VCALENDAR
VERSION:2.0
PRODID:-//ChamberMaster//Event Calendar 2.0//EN
METHOD:PUBLISH
X-PUBLISHED-TTL:P3D
REFRESH-INTERVAL:P3D
CALSCALE:GREGORIAN
BEGIN:VEVENT
DTSTART:20230907T213000Z
DTEND:20230907T230000Z
X-MICROSOFT-CDO-ALLDAYEVENT:FALSE
SUMMARY:2023 Industry Outlook 9.7.23
DESCRIPTION:Industry Outlook
X-ALT-DESC;FMTTYPE=text/html:Industry Outlook
LOCATION:Card Network 900 West Maple Rd\, Suite 200 Troy\, MI 48084
UID:e.109.260
SEQUENCE:3
DTSTAMP:20260422T170935Z
URL:https://members.chaldeanchamber.com/events/details/2023-industry-outlook-9-7-23-260
END:VEVENT

END:VCALENDAR
