BEGIN:VCALENDAR
VERSION:2.0
PRODID:-//ChamberMaster//Event Calendar 2.0//EN
METHOD:PUBLISH
X-PUBLISHED-TTL:P3D
REFRESH-INTERVAL:P3D
CALSCALE:GREGORIAN
BEGIN:VEVENT
DTSTART:20240516T210000Z
DTEND:20240516T230000Z
X-MICROSOFT-CDO-ALLDAYEVENT:FALSE
SUMMARY:2024 CPN Summer KICKOFF 5.16.24
DESCRIPTION:CPN Kick Off Event
X-ALT-DESC;FMTTYPE=text/html:CPN Kick Off Event
LOCATION:Experience ZuZu 511 Woodward Ave.\, Suite 100 Detroit\, MI 48226
UID:e.109.280
SEQUENCE:3
DTSTAMP:20260422T060015Z
URL:https://members.chaldeanchamber.com/events/details/2024-cpn-summer-kickoff-5-16-24-280
END:VEVENT

END:VCALENDAR
