BEGIN:VCALENDAR
VERSION:2.0
PRODID:-//ChamberMaster//Event Calendar 2.0//EN
METHOD:PUBLISH
X-PUBLISHED-TTL:P3D
REFRESH-INTERVAL:P3D
CALSCALE:GREGORIAN
BEGIN:VEVENT
DTSTART:20240306T220000Z
DTEND:20240307T000000Z
X-MICROSOFT-CDO-ALLDAYEVENT:FALSE
SUMMARY:2024 CWC Notable Women Speaker Series
DESCRIPTION:Notable Women Speaker Series hosted by the Chaldean Women's Committee (CWC)
X-ALT-DESC;FMTTYPE=text/html:Notable Women Speaker Series hosted by the Chaldean Women&#39\;s Committee (CWC)
LOCATION:TVA + RLA Real Estate 6755 Telegraph Rd.\, 2nd floor Bloomfield Hills\, MI 48301
UID:e.109.275
SEQUENCE:3
DTSTAMP:20260424T081429Z
URL:https://members.chaldeanchamber.com/events/details/2024-cwc-notable-women-speaker-series-275
END:VEVENT

END:VCALENDAR
