BEGIN:VCALENDAR
VERSION:2.0
PRODID:-//ChamberMaster//Event Calendar 2.0//EN
METHOD:PUBLISH
X-PUBLISHED-TTL:P3D
REFRESH-INTERVAL:P3D
CALSCALE:GREGORIAN
BEGIN:VEVENT
DTSTART:20240116T220000Z
DTEND:20240117T000000Z
X-MICROSOFT-CDO-ALLDAYEVENT:FALSE
SUMMARY:2024 FUN @ 5 January 16
DESCRIPTION:Fun @ 5 Networking Event
X-ALT-DESC;FMTTYPE=text/html:Fun @ 5 Networking Event
LOCATION:60 Campus Martius Detroit\, MI 48226
UID:e.109.276
SEQUENCE:3
DTSTAMP:20260422T114126Z
URL:https://members.chaldeanchamber.com/events/details/2024-fun-5-january-16-276
END:VEVENT

END:VCALENDAR
