BEGIN:VCALENDAR
VERSION:2.0
PRODID:-//ChamberMaster//Event Calendar 2.0//EN
METHOD:PUBLISH
X-PUBLISHED-TTL:P3D
REFRESH-INTERVAL:P3D
CALSCALE:GREGORIAN
BEGIN:VEVENT
DTSTART:20240215T220000Z
DTEND:20240216T000000Z
X-MICROSOFT-CDO-ALLDAYEVENT:FALSE
SUMMARY:2024 Industry Outlook 2-15-2024
DESCRIPTION:Industry Outlook
X-ALT-DESC;FMTTYPE=text/html:Industry Outlook
LOCATION:Aurora Italiana 6199 Orchard Lake Road West Bloomfield\, MI 48322
UID:e.109.274
SEQUENCE:3
DTSTAMP:20260422T102521Z
URL:https://members.chaldeanchamber.com/events/details/2024-industry-outlook-2-15-2024-274
END:VEVENT

END:VCALENDAR
