BEGIN:VCALENDAR
VERSION:2.0
PRODID:-//ChamberMaster//Event Calendar 2.0//EN
METHOD:PUBLISH
X-PUBLISHED-TTL:P3D
REFRESH-INTERVAL:P3D
CALSCALE:GREGORIAN
BEGIN:VEVENT
DTSTART:20240725T170000Z
DTEND:20240725T190000Z
X-MICROSOFT-CDO-ALLDAYEVENT:FALSE
SUMMARY:2024 Industry Outlook-Cannabusiness July 25
DESCRIPTION:Industry Outlook-Cannabusiness\n\nEducational Event
X-ALT-DESC;FMTTYPE=text/html:Industry Outlook-Cannabusiness<br />\nEducational Event&nbsp\;
LOCATION:Shenandoah Country Club 5600 Walnut Lake Road West Bloomfield
UID:e.109.285
SEQUENCE:3
DTSTAMP:20260422T025710Z
URL:https://members.chaldeanchamber.com/events/details/2024-industry-outlook-cannabusiness-july-25-285
END:VEVENT

END:VCALENDAR
