BEGIN:VCALENDAR
VERSION:2.0
PRODID:-//ChamberMaster//Event Calendar 2.0//EN
METHOD:PUBLISH
X-PUBLISHED-TTL:P3D
REFRESH-INTERVAL:P3D
CALSCALE:GREGORIAN
BEGIN:VEVENT
DTSTART:20241003T210000Z
DTEND:20241003T230000Z
X-MICROSOFT-CDO-ALLDAYEVENT:FALSE
SUMMARY:2024 "Meet the CEO" CPN Series Version 10.3.24
DESCRIPTION:"Meet the CEO" Series Event\n\nDanny Marogy\, Senior Director\, West Coast Development\n\nUnited Wholesale Mortgage
X-ALT-DESC;FMTTYPE=text/html:<p>&quot\;Meet the CEO&quot\; Series Event<br />\nDanny Marogy\, Senior Director\, West Coast Development<br />\nUnited Wholesale Mortgage</p>\n
LOCATION:220 Merrill 220 E. Merrill St. Birmingham\, MI 48009
UID:e.109.287
SEQUENCE:3
DTSTAMP:20260421T223123Z
URL:https://members.chaldeanchamber.com/events/details/2024-meet-the-ceo-cpn-series-version-10-3-24-287
END:VEVENT

END:VCALENDAR
