BEGIN:VCALENDAR
VERSION:2.0
PRODID:-//ChamberMaster//Event Calendar 2.0//EN
METHOD:PUBLISH
X-PUBLISHED-TTL:P3D
REFRESH-INTERVAL:P3D
CALSCALE:GREGORIAN
BEGIN:VEVENT
DTSTART:20240820T210000Z
DTEND:20240820T230000Z
X-MICROSOFT-CDO-ALLDAYEVENT:FALSE
SUMMARY:2024 Networking Event w/DRC Aug 20
DESCRIPTION:Networking event w/DRC
X-ALT-DESC;FMTTYPE=text/html:Networking event w/DRC
LOCATION:Cambria Hotel 600 W. Lafayette Blvd. Detroit\, MI 48226 6 600 W Lafayette Blvd. Detroit MI 00 W. Lafayette Blvd. Detroit\, MI 48226 600 W. Lafayette Blvd. Detroit\, MI 48226
UID:e.109.282
SEQUENCE:3
DTSTAMP:20260422T012102Z
URL:https://members.chaldeanchamber.com/events/details/2024-networking-event-w-drc-aug-20-282
END:VEVENT

END:VCALENDAR
