BEGIN:VCALENDAR
VERSION:2.0
PRODID:-//ChamberMaster//Event Calendar 2.0//EN
METHOD:PUBLISH
X-PUBLISHED-TTL:P3D
REFRESH-INTERVAL:P3D
CALSCALE:GREGORIAN
BEGIN:VEVENT
DTSTART:20240620T123000Z
DTEND:20240620T133000Z
X-MICROSOFT-CDO-ALLDAYEVENT:FALSE
SUMMARY:2024 New Member Orientation June 20
DESCRIPTION:New Member Orientation
X-ALT-DESC;FMTTYPE=text/html:New Member Orientation
LOCATION:CACC 30095 Northwestern Hwy\, Suite 101 Farmington Hills\, MI 48336
UID:e.109.284
SEQUENCE:3
DTSTAMP:20260422T042228Z
URL:https://members.chaldeanchamber.com/events/details/2024-new-member-orientation-june-20-284
END:VEVENT

END:VCALENDAR
