BEGIN:VCALENDAR
VERSION:2.0
PRODID:-//ChamberMaster//Event Calendar 2.0//EN
METHOD:PUBLISH
X-PUBLISHED-TTL:P3D
REFRESH-INTERVAL:P3D
CALSCALE:GREGORIAN
BEGIN:VEVENT
DTSTART:20251112T220000Z
DTEND:20251113T000000Z
X-MICROSOFT-CDO-ALLDAYEVENT:FALSE
SUMMARY:2025 Annual Meeting Board Election
DESCRIPTION:Annual Meeting Board Election
X-ALT-DESC;FMTTYPE=text/html:Annual Meeting Board Election
LOCATION:Chaldean Community Foundation West 2075 Walnut Lake Road West Bloomfield\, MI 48323
UID:e.109.289
SEQUENCE:3
DTSTAMP:20260421T113301Z
URL:https://members.chaldeanchamber.com/events/details/2025-annual-meeting-board-election-289
END:VEVENT

END:VCALENDAR
