BEGIN:VCALENDAR
VERSION:2.0
PRODID:-//ChamberMaster//Event Calendar 2.0//EN
METHOD:PUBLISH
X-PUBLISHED-TTL:P3D
REFRESH-INTERVAL:P3D
CALSCALE:GREGORIAN
BEGIN:VEVENT
DTSTART:20250717T200000Z
DTEND:20250717T230000Z
X-MICROSOFT-CDO-ALLDAYEVENT:FALSE
SUMMARY:2025 CPN Summer Kickoff
DESCRIPTION:Summer kickoff event for the Chaldean Professional Network
X-ALT-DESC;FMTTYPE=text/html:Summer kickoff event for the Chaldean Professional Network
LOCATION:CCF West Jarbou Family Courtyard 2075 Walnut Lake Road West Bloomfield
UID:e.109.298
SEQUENCE:3
DTSTAMP:20260421T113015Z
URL:https://members.chaldeanchamber.com/events/details/2025-cpn-summer-kickoff-298
END:VEVENT

END:VCALENDAR
