BEGIN:VCALENDAR
VERSION:2.0
PRODID:-//ChamberMaster//Event Calendar 2.0//EN
METHOD:PUBLISH
X-PUBLISHED-TTL:P3D
REFRESH-INTERVAL:P3D
CALSCALE:GREGORIAN
BEGIN:VEVENT
DTSTART:20250114T220000Z
DTEND:20250115T000000Z
X-MICROSOFT-CDO-ALLDAYEVENT:FALSE
SUMMARY:2025 FUN @ Five 1.14.25
DESCRIPTION:Fun @ Five Networking Event
X-ALT-DESC;FMTTYPE=text/html:Fun @ Five Networking Event
LOCATION:Farbman Group 31700 Middlebelt Road Farmington Hills\, MI 48334
UID:e.109.292
SEQUENCE:3
DTSTAMP:20260421T183030Z
URL:https://members.chaldeanchamber.com/events/details/2025-fun-five-1-14-25-292
END:VEVENT

END:VCALENDAR
