BEGIN:VCALENDAR
VERSION:2.0
PRODID:-//ChamberMaster//Event Calendar 2.0//EN
METHOD:PUBLISH
X-PUBLISHED-TTL:P3D
REFRESH-INTERVAL:P3D
CALSCALE:GREGORIAN
BEGIN:VEVENT
DTSTART:20250220T170000Z
DTEND:20250220T180000Z
X-MICROSOFT-CDO-ALLDAYEVENT:FALSE
SUMMARY:2025 New Member Orientation Lunch 2.20.25
DESCRIPTION:New Member Orientation Lunch
X-ALT-DESC;FMTTYPE=text/html:<p>New Member Orientation Lunch</p>\n
LOCATION:Chaldean Community Foundation 3601 15 Mile Road Sterling Heights\, MI 48310
UID:e.109.293
SEQUENCE:3
DTSTAMP:20260421T182947Z
URL:https://members.chaldeanchamber.com/events/details/2025-new-member-orientation-lunch-2-20-25-293
END:VEVENT

END:VCALENDAR
