BEGIN:VCALENDAR
VERSION:2.0
PRODID:-//ChamberMaster//Event Calendar 2.0//EN
METHOD:PUBLISH
X-PUBLISHED-TTL:P3D
REFRESH-INTERVAL:P3D
CALSCALE:GREGORIAN
BEGIN:VEVENT
DTSTART:20260122T133000Z
DTEND:20260122T150000Z
X-MICROSOFT-CDO-ALLDAYEVENT:FALSE
SUMMARY:2026 Breakfast with a Champion 1.22.26
DESCRIPTION:Breakfast with a Champion:\n\nMeet & Greet with West Bloomfield Police Chief Dale Young
X-ALT-DESC;FMTTYPE=text/html:<p>Breakfast with a Champion:<br />\nMeet &amp\; Greet with West Bloomfield Police Chief Dale Young</p>\n
LOCATION:CCF West 2075 Walnut Lake Rd. West Bloomfield\, MI 48323
UID:e.109.312
SEQUENCE:3
DTSTAMP:20260421T112444Z
URL:https://members.chaldeanchamber.com/events/details/2026-breakfast-with-a-champion-1-22-26-312
END:VEVENT

END:VCALENDAR
