BEGIN:VCALENDAR
VERSION:2.0
PRODID:-//ChamberMaster//Event Calendar 2.0//EN
METHOD:PUBLISH
X-PUBLISHED-TTL:P3D
REFRESH-INTERVAL:P3D
CALSCALE:GREGORIAN
BEGIN:VEVENT
DTSTART:20260210T170000Z
DTEND:20260210T180000Z
X-MICROSOFT-CDO-ALLDAYEVENT:FALSE
SUMMARY:2026 New Member Orientation 2.10.26
DESCRIPTION:New Member Orientation
X-ALT-DESC;FMTTYPE=text/html:<p><span style="font-size:14px\;"><span style="font-family:verdana\;">New Member Orientation</span></span></p>\n
LOCATION:CCF West 2075 Walnut Lake Road West Bloomfield\, MI 48323
UID:e.109.311
SEQUENCE:3
DTSTAMP:20260421T113342Z
URL:https://members.chaldeanchamber.com/events/details/2026-new-member-orientation-2-10-26-311
END:VEVENT

END:VCALENDAR
