BEGIN:VCALENDAR
VERSION:2.0
PRODID:-//ChamberMaster//Event Calendar 2.0//EN
METHOD:PUBLISH
X-PUBLISHED-TTL:P3D
REFRESH-INTERVAL:P3D
CALSCALE:GREGORIAN
BEGIN:VEVENT
DTSTART:20211202T220000Z
DTEND:20211203T010000Z
X-MICROSOFT-CDO-ALLDAYEVENT:FALSE
SUMMARY:Annual Christmas Party
DESCRIPTION:Annual CACC Christmas Party
X-ALT-DESC;FMTTYPE=text/html:Annual CACC Christmas Party
LOCATION:Regency Manor 25228 West 12 Mile Road Southfield\, MI 48034
UID:e.109.232
SEQUENCE:3
DTSTAMP:20260423T213524Z
URL:https://members.chaldeanchamber.com/events/details/annual-christmas-party-232
END:VEVENT

END:VCALENDAR
