BEGIN:VCALENDAR
VERSION:2.0
PRODID:-//ChamberMaster//Event Calendar 2.0//EN
METHOD:PUBLISH
X-PUBLISHED-TTL:P3D
REFRESH-INTERVAL:P3D
CALSCALE:GREGORIAN
BEGIN:VEVENT
DTSTART:20211110T230000Z
DTEND:20211111T010000Z
X-MICROSOFT-CDO-ALLDAYEVENT:FALSE
SUMMARY:Annual Meeting & Board Election 2021
DESCRIPTION:Annual Meeting and Board Election
X-ALT-DESC;FMTTYPE=text/html:Annual Meeting and Board Election
LOCATION:Shenandoah Country Club 5600 Walnut Lake Rd West Bloomfield\, MI 48323
UID:e.109.231
SEQUENCE:3
DTSTAMP:20260423T225751Z
URL:https://members.chaldeanchamber.com/events/details/annual-meeting-board-election-2021-231
END:VEVENT

END:VCALENDAR
