BEGIN:VCALENDAR
VERSION:2.0
PRODID:-//ChamberMaster//Event Calendar 2.0//EN
METHOD:PUBLISH
X-PUBLISHED-TTL:P3D
REFRESH-INTERVAL:P3D
CALSCALE:GREGORIAN
BEGIN:VEVENT
DTSTART;VALUE=DATE:20230113
DTEND;VALUE=DATE:20230114
TRANSP:TRANSPARENT
X-MICROSOFT-CDO-ALLDAYEVENT:TRUE
SUMMARY:Brian Hanna Luncheon CCF January 13\, 2023
DESCRIPTION:Brian Hanna Luncheon at CCF
X-ALT-DESC;FMTTYPE=text/html:Brian Hanna Luncheon at CCF
LOCATION:CCF
UID:e.109.256
SEQUENCE:3
DTSTAMP:20260423T034152Z
URL:https://members.chaldeanchamber.com/events/details/brian-hanna-luncheon-ccf-january-13-2023-256
END:VEVENT

END:VCALENDAR
