BEGIN:VCALENDAR
VERSION:2.0
PRODID:-//ChamberMaster//Event Calendar 2.0//EN
METHOD:PUBLISH
X-PUBLISHED-TTL:P3D
REFRESH-INTERVAL:P3D
CALSCALE:GREGORIAN
BEGIN:VEVENT
DTSTART:20241018T150000Z
DTEND:20241018T170000Z
X-MICROSOFT-CDO-ALLDAYEVENT:FALSE
SUMMARY:CACC Annual Business Luncheon 10.18.24
DESCRIPTION:We are thrilled to announce that Congresswoman Elissa Slotkin and U.S. Representative Mike Rogers will be speaking at our Annual 2024 Business Luncheon. As we approach the election\, this is an incredible opportunity to gain insights from both sides of the political spectrum. You won't want to miss this chance to engage with influential leaders and network with fellow attendees.
X-ALT-DESC;FMTTYPE=text/html:<span style="font-family:verdana\,sans-serif\;"><span style="font-size:10.5pt\;">We are thrilled to announce that Congresswoman Elissa Slotkin and U.S. Representative Mike Rogers will be speaking at our Annual 2024 Business Luncheon.&nbsp\;</span></span><span style="font-size: 10.5pt\; font-family: verdana\, sans-serif\;">As we approach the election\, this is an incredible opportunity to gain insights from both sides of the political spectrum. You won&rsquo\;t want to miss this chance to engage with influential leaders and network with fellow attendees.&nbsp\;</span>
LOCATION:Soundboard at MotorCity Casino Hotel 2901 Grand River Ave. Detroit\, MI 48201
UID:e.109.290
SEQUENCE:3
DTSTAMP:20260421T223139Z
URL:https://members.chaldeanchamber.com/events/details/cacc-annual-business-luncheon-10-18-24-290
END:VEVENT

END:VCALENDAR
