BEGIN:VCALENDAR
VERSION:2.0
PRODID:-//ChamberMaster//Event Calendar 2.0//EN
METHOD:PUBLISH
X-PUBLISHED-TTL:P3D
REFRESH-INTERVAL:P3D
CALSCALE:GREGORIAN
BEGIN:VEVENT
DTSTART:20241203T220000Z
DTEND:20241204T010000Z
X-MICROSOFT-CDO-ALLDAYEVENT:FALSE
SUMMARY:CACC Annual Christmas Party 12.3.24
DESCRIPTION:Annual Member Christmas Party
X-ALT-DESC;FMTTYPE=text/html:Annual Member Christmas Party
LOCATION:Cadillac Lodge 60 Campus Martius Detroit\, MI 48226
UID:e.109.291
SEQUENCE:3
DTSTAMP:20260421T195625Z
URL:https://members.chaldeanchamber.com/events/details/cacc-annual-christmas-party-12-3-24-291
END:VEVENT

END:VCALENDAR
