BEGIN:VCALENDAR
VERSION:2.0
PRODID:-//ChamberMaster//Event Calendar 2.0//EN
METHOD:PUBLISH
X-PUBLISHED-TTL:P3D
REFRESH-INTERVAL:P3D
CALSCALE:GREGORIAN
BEGIN:VEVENT
DTSTART:20220310T213000Z
DTEND:20220310T230000Z
X-MICROSOFT-CDO-ALLDAYEVENT:FALSE
SUMMARY:Chaldean Women's Committee Notable Women Speaker Series
DESCRIPTION:CWC Notable Women Speaker Series
X-ALT-DESC;FMTTYPE=text/html:CWC Notable Women Speaker Series
LOCATION:220 Merrill Street Birmingham\, MI 48009
UID:e.109.235
SEQUENCE:3
DTSTAMP:20260423T173902Z
URL:https://members.chaldeanchamber.com/events/details/chaldean-women-s-committee-notable-women-speaker-series-235
END:VEVENT

END:VCALENDAR
