BEGIN:VCALENDAR
VERSION:2.0
PRODID:-//ChamberMaster//Event Calendar 2.0//EN
METHOD:PUBLISH
X-PUBLISHED-TTL:P3D
REFRESH-INTERVAL:P3D
CALSCALE:GREGORIAN
BEGIN:VEVENT
DTSTART:20210813T140000Z
DTEND:20210813T153000Z
X-MICROSOFT-CDO-ALLDAYEVENT:FALSE
SUMMARY:CWC Leadership Breakfast
DESCRIPTION:CWC Leadership Breakfast:\n\nA Q&A with Justices Hala Jarbou and Yasmine Poles
X-ALT-DESC;FMTTYPE=text/html:CWC Leadership Breakfast:<br />\nA&nbsp\;Q&amp\;A with Justices Hala Jarbou and Yasmine Poles
LOCATION:Chaldean Community Foundation 3601 15 Mile Rd Sterling Heights
UID:e.109.224
SEQUENCE:3
DTSTAMP:20260424T031546Z
URL:https://members.chaldeanchamber.com/events/details/cwc-leadership-breakfast-224
END:VEVENT

END:VCALENDAR
