BEGIN:VCALENDAR
VERSION:2.0
PRODID:-//ChamberMaster//Event Calendar 2.0//EN
METHOD:PUBLISH
X-PUBLISHED-TTL:P3D
REFRESH-INTERVAL:P3D
CALSCALE:GREGORIAN
BEGIN:VEVENT
DTSTART:20210608T210000Z
DTEND:20210608T230000Z
X-MICROSOFT-CDO-ALLDAYEVENT:FALSE
SUMMARY:CYPN 2021 Kickoff
DESCRIPTION:Chaldean Young Professionals Network Kickoff 2021 Event
X-ALT-DESC;FMTTYPE=text/html:Chaldean Young Professionals Network Kickoff 2021 Event
LOCATION:220 Merrill Birmingham\, MI
UID:e.109.220
SEQUENCE:3
DTSTAMP:20260424T054934Z
URL:https://members.chaldeanchamber.com/events/details/cypn-2021-kickoff-220
END:VEVENT

END:VCALENDAR
