BEGIN:VCALENDAR
VERSION:2.0
PRODID:-//ChamberMaster//Event Calendar 2.0//EN
METHOD:PUBLISH
X-PUBLISHED-TTL:P3D
REFRESH-INTERVAL:P3D
CALSCALE:GREGORIAN
BEGIN:VEVENT
DTSTART:20220512T210000Z
DTEND:20220512T230000Z
X-MICROSOFT-CDO-ALLDAYEVENT:FALSE
SUMMARY:CYPN Kick Off May 12\, 2022
DESCRIPTION:CYPN Kick Off
X-ALT-DESC;FMTTYPE=text/html:<span style="font-size:14px\;">CYPN Kick Off</span>
LOCATION:The Morrie 260 N. Old Woodward Ave.\, Birmingham Mi 48009
UID:e.109.246
SEQUENCE:3
DTSTAMP:20260423T144254Z
URL:https://members.chaldeanchamber.com/events/details/cypn-kick-off-may-12-2022-246
END:VEVENT

END:VCALENDAR
