BEGIN:VCALENDAR
VERSION:2.0
PRODID:-//ChamberMaster//Event Calendar 2.0//EN
METHOD:PUBLISH
X-PUBLISHED-TTL:P3D
REFRESH-INTERVAL:P3D
CALSCALE:GREGORIAN
BEGIN:VEVENT
DTSTART:20220113T220000Z
DTEND:20220114T000000Z
X-MICROSOFT-CDO-ALLDAYEVENT:FALSE
SUMMARY:Fun After Five 1.13.22
DESCRIPTION:Fun After Five networking event
X-ALT-DESC;FMTTYPE=text/html:Fun After Five networking event
LOCATION:Zao Jun New Asian Restaurant 6608 Telegraph Rd\, Bloomfield Hills\, MI 48301
UID:e.109.233
SEQUENCE:3
DTSTAMP:20260423T213400Z
URL:https://members.chaldeanchamber.com/events/details/fun-after-five-1-13-22-233
END:VEVENT

END:VCALENDAR
