BEGIN:VCALENDAR
VERSION:2.0
PRODID:-//ChamberMaster//Event Calendar 2.0//EN
METHOD:PUBLISH
X-PUBLISHED-TTL:P3D
REFRESH-INTERVAL:P3D
CALSCALE:GREGORIAN
BEGIN:VEVENT
DTSTART:20220810T210000Z
DTEND:20220810T223000Z
X-MICROSOFT-CDO-ALLDAYEVENT:FALSE
SUMMARY:Fun After Five 8.10.22
DESCRIPTION:Fun After Five networking event
X-ALT-DESC;FMTTYPE=text/html:Fun After Five networking event
LOCATION:DOBI Real Estate 2211 Cole Street Birmingham\, MI 48009
UID:e.109.238
SEQUENCE:3
DTSTAMP:20260423T104127Z
URL:https://members.chaldeanchamber.com/events/details/fun-after-five-8-10-22-238
END:VEVENT

END:VCALENDAR
