BEGIN:VCALENDAR
VERSION:2.0
PRODID:-//ChamberMaster//Event Calendar 2.0//EN
METHOD:PUBLISH
X-PUBLISHED-TTL:P3D
REFRESH-INTERVAL:P3D
CALSCALE:GREGORIAN
BEGIN:VEVENT
DTSTART:20220209T220000Z
DTEND:20220210T000000Z
X-MICROSOFT-CDO-ALLDAYEVENT:FALSE
SUMMARY:Industry Outlook 2.9.22
DESCRIPTION:Industry Outlook\n\nEconomic Forecast & Building Generational Wealth
X-ALT-DESC;FMTTYPE=text/html:Industry Outlook<br />\nEconomic Forecast &amp\; Building Generational Wealth
LOCATION:Doubletree Birmingham 39475 Woodward Ave\, Bloomfield Hills\, MI 48304
UID:e.109.236
SEQUENCE:3
DTSTAMP:20260423T185704Z
URL:https://members.chaldeanchamber.com/events/details/industry-outlook-2-9-22-236
END:VEVENT

END:VCALENDAR
