BEGIN:VCALENDAR
VERSION:2.0
PRODID:-//ChamberMaster//Event Calendar 2.0//EN
METHOD:PUBLISH
X-PUBLISHED-TTL:P3D
REFRESH-INTERVAL:P3D
CALSCALE:GREGORIAN
BEGIN:VEVENT
DTSTART:20220908T213000Z
DTEND:20220908T230000Z
X-MICROSOFT-CDO-ALLDAYEVENT:FALSE
SUMMARY:Industry Outlook 9.8.22
DESCRIPTION:Industry Outlook
X-ALT-DESC;FMTTYPE=text/html:Industry Outlook<br />\n&nbsp\;
LOCATION:Card Network 900 West Maple Suite 200 Troy\, MI 48084
UID:e.109.239
SEQUENCE:3
DTSTAMP:20260423T091911Z
URL:https://members.chaldeanchamber.com/events/details/industry-outlook-9-8-22-239
END:VEVENT

END:VCALENDAR
