BEGIN:VCALENDAR
VERSION:2.0
PRODID:-//ChamberMaster//Event Calendar 2.0//EN
METHOD:PUBLISH
X-PUBLISHED-TTL:P3D
REFRESH-INTERVAL:P3D
CALSCALE:GREGORIAN
BEGIN:VEVENT
DTSTART:20220921T213000Z
DTEND:20220921T230000Z
X-MICROSOFT-CDO-ALLDAYEVENT:FALSE
SUMMARY:Judge Warren Meet & Greet
DESCRIPTION:Meet & Greet with Judge Michael Warren
X-ALT-DESC;FMTTYPE=text/html:Meet &amp\; Greet with Judge Michael Warren
LOCATION:Shenandoah Country Club Overflow Room 5600 Walnut Lake Rd\, West Bloomfield MI 48323
UID:e.109.251
SEQUENCE:3
DTSTAMP:20260423T104244Z
URL:https://members.chaldeanchamber.com/events/details/judge-warren-meet-greet-251
END:VEVENT

END:VCALENDAR
