BEGIN:VCALENDAR
VERSION:2.0
PRODID:-//ChamberMaster//Event Calendar 2.0//EN
METHOD:PUBLISH
X-PUBLISHED-TTL:P3D
REFRESH-INTERVAL:P3D
CALSCALE:GREGORIAN
BEGIN:VEVENT
DTSTART:20251021T210000Z
DTEND:20251021T230000Z
X-MICROSOFT-CDO-ALLDAYEVENT:FALSE
SUMMARY:Meet the CEO 10.21.25
DESCRIPTION:Meet the CEOs\; An opportunity to meet not only one CEO\, but two.
X-ALT-DESC;FMTTYPE=text/html:Meet the CEOs\;&nbsp\;<span style="color: rgb(51\, 51\, 51)\; font-family: sans-serif\, Arial\, Verdana\, &quot\;Trebuchet MS&quot\;\; font-size: 13px\; background-color: rgb(255\, 255\, 255)\;">An opportunity to meet not only one CEO\, but two.</span>
LOCATION:Gardner White 1201 Woodward Avenue Detroit\, MI 48226
UID:e.109.305
SEQUENCE:3
DTSTAMP:20260421T194439Z
URL:https://members.chaldeanchamber.com/events/details/meet-the-ceo-10-21-25-305
END:VEVENT

END:VCALENDAR
