BEGIN:VCALENDAR
VERSION:2.0
PRODID:-//ChamberMaster//Event Calendar 2.0//EN
METHOD:PUBLISH
X-PUBLISHED-TTL:P3D
REFRESH-INTERVAL:P3D
CALSCALE:GREGORIAN
BEGIN:VEVENT
DTSTART:20210810T200000Z
DTEND:20210810T220000Z
X-MICROSOFT-CDO-ALLDAYEVENT:FALSE
SUMMARY:OCN Summer Mixer
DESCRIPTION:Oakland Chamber Network\n\nSummer Mixer
X-ALT-DESC;FMTTYPE=text/html:<p>Oakland Chamber Network<br />\nSummer Mixer</p>\n
LOCATION:Regency Manor 25228 W 12 Mile Rd Southfield MI 48034
UID:e.109.225
SEQUENCE:3
DTSTAMP:20260424T031932Z
URL:https://members.chaldeanchamber.com/events/details/ocn-summer-mixer-225
END:VEVENT

END:VCALENDAR
