BEGIN:VCALENDAR
VERSION:2.0
PRODID:-//ChamberMaster//Event Calendar 2.0//EN
METHOD:PUBLISH
X-PUBLISHED-TTL:P3D
REFRESH-INTERVAL:P3D
CALSCALE:GREGORIAN
BEGIN:VEVENT
DTSTART:20210812T210000Z
DTEND:20210812T230000Z
X-MICROSOFT-CDO-ALLDAYEVENT:FALSE
SUMMARY:QNM Fun After 5 August 12-2021
DESCRIPTION:QNM Fun After 5 Event
X-ALT-DESC;FMTTYPE=text/html:QNM Fun After 5 Event
LOCATION:260 N. Old Woodward Avenue Birmingham\, MI 48009
UID:e.109.226
SEQUENCE:3
DTSTAMP:20260424T032104Z
URL:https://members.chaldeanchamber.com/events/details/qnm-fun-after-5-august-12-2021-226
END:VEVENT

END:VCALENDAR
