BEGIN:VCALENDAR
VERSION:2.0
PRODID:-//ChamberMaster//Event Calendar 2.0//EN
METHOD:PUBLISH
X-PUBLISHED-TTL:P3D
REFRESH-INTERVAL:P3D
CALSCALE:GREGORIAN
BEGIN:VEVENT
DTSTART:20210504T210000Z
DTEND:20210504T230000Z
X-MICROSOFT-CDO-ALLDAYEVENT:FALSE
SUMMARY:QNM: Fun After Five
DESCRIPTION:Quarterly Networking Meeting
X-ALT-DESC;FMTTYPE=text/html:Quarterly Networking Meeting
LOCATION:Zao Jun New Asianl
UID:e.109.222
SEQUENCE:3
DTSTAMP:20260424T071045Z
URL:https://members.chaldeanchamber.com/events/details/qnm-fun-after-five-222
END:VEVENT

END:VCALENDAR
