BEGIN:VCALENDAR
VERSION:2.0
PRODID:-//ChamberMaster//Event Calendar 2.0//EN
METHOD:PUBLISH
X-PUBLISHED-TTL:P3D
REFRESH-INTERVAL:P3D
CALSCALE:GREGORIAN
BEGIN:VEVENT
DTSTART:20220104T230000Z
DTEND:20220105T000000Z
X-MICROSOFT-CDO-ALLDAYEVENT:FALSE
SUMMARY:Store Owner Meeting RE: Lottery & Liquor Bills
DESCRIPTION:The Chamber calls a meeting of store owners to discuss the lottery and liquor bills introduced to Congress
X-ALT-DESC;FMTTYPE=text/html:The Chamber calls a meeting of store owners to discuss the lottery and liquor bills introduced to Congress
LOCATION:TBD
UID:e.109.241
SEQUENCE:3
DTSTAMP:20260423T202423Z
URL:https://members.chaldeanchamber.com/events/details/store-owner-meeting-re-lottery-liquor-bills-241
END:VEVENT

END:VCALENDAR
