BEGIN:VCALENDAR
VERSION:2.0
PRODID:-//ChamberMaster//Event Calendar 2.0//EN
METHOD:PUBLISH
X-PUBLISHED-TTL:P3D
REFRESH-INTERVAL:P3D
CALSCALE:GREGORIAN
BEGIN:VEVENT
DTSTART:20210511T130000Z
DTEND:20210511T140000Z
X-MICROSOFT-CDO-ALLDAYEVENT:FALSE
SUMMARY:Workplace Rights Seminar
DESCRIPTION:Your Rights in the Post-COVID Workplace Seminar
X-ALT-DESC;FMTTYPE=text/html:Your Rights in the Post-COVID Workplace Seminar
LOCATION:Zoom Call
UID:e.109.223
SEQUENCE:3
DTSTAMP:20260424T070928Z
URL:https://members.chaldeanchamber.com/events/details/workplace-rights-seminar-223
END:VEVENT

END:VCALENDAR
